BEGIN:VCALENDAR
VERSION:2.0
PRODID:-//Ugborough Parish Council//Meeting Calendar//EN
CALSCALE:GREGORIAN
METHOD:PUBLISH
BEGIN:VEVENT
UID:70451-20101014@ugboroughparishcouncil.gov.uk
DTSTAMP:20260421T084735Z
DTSTART;VALUE=DATE:20101014
DTEND;VALUE=DATE:20101015
SUMMARY:Council Meeting &#8211\\; 14th October 2010
DESCRIPTION:Full Council Meeting\nView details: https://ugboroughparishcouncil.gov.uk/meetings/council-meeting-14th-october-2010/
URL:https://ugboroughparishcouncil.gov.uk/meetings/council-meeting-14th-october-2010/
END:VEVENT
END:VCALENDAR
