BEGIN:VCALENDAR
VERSION:2.0
PRODID:-//Ugborough Parish Council//Meeting Calendar//EN
CALSCALE:GREGORIAN
METHOD:PUBLISH
BEGIN:VEVENT
UID:70483-20121212@ugboroughparishcouncil.gov.uk
DTSTAMP:20260422T084716Z
DTSTART;VALUE=DATE:20121212
DTEND;VALUE=DATE:20121213
SUMMARY:Council Meeting &#8211\\; 12th December 2012
DESCRIPTION:Full Council Meeting\nView details: https://ugboroughparishcouncil.gov.uk/meetings/council-meeting-12th-december-2012/
URL:https://ugboroughparishcouncil.gov.uk/meetings/council-meeting-12th-december-2012/
END:VEVENT
END:VCALENDAR
