BEGIN:VCALENDAR
VERSION:2.0
PRODID:-//Ugborough Parish Council//Meeting Calendar//EN
CALSCALE:GREGORIAN
METHOD:PUBLISH
BEGIN:VEVENT
UID:70622-20190403@ugboroughparishcouncil.gov.uk
DTSTAMP:20260422T084814Z
DTSTART;VALUE=DATE:20190403
DTEND;VALUE=DATE:20190404
SUMMARY:Council Meeting &#8211\\; 3rd April 2019
DESCRIPTION:Full Council Meeting\nView details: https://ugboroughparishcouncil.gov.uk/meetings/council-meeting-3rd-april-2019/
URL:https://ugboroughparishcouncil.gov.uk/meetings/council-meeting-3rd-april-2019/
END:VEVENT
END:VCALENDAR
