BEGIN:VCALENDAR
VERSION:2.0
PRODID:-//Ugborough Parish Council//Meeting Calendar//EN
CALSCALE:GREGORIAN
METHOD:PUBLISH
BEGIN:VEVENT
UID:70628-20190206@ugboroughparishcouncil.gov.uk
DTSTAMP:20260422T085602Z
DTSTART;VALUE=DATE:20190206
DTEND;VALUE=DATE:20190207
SUMMARY:Council Meeting &#8211\\; 6th February 2019
DESCRIPTION:Full Council Meeting\nView details: https://ugboroughparishcouncil.gov.uk/meetings/council-meeting-6th-february-2019/
URL:https://ugboroughparishcouncil.gov.uk/meetings/council-meeting-6th-february-2019/
END:VEVENT
END:VCALENDAR
