BEGIN:VCALENDAR
VERSION:2.0
PRODID:-//Ugborough Parish Council//Meeting Calendar//EN
CALSCALE:GREGORIAN
METHOD:PUBLISH
BEGIN:VEVENT
UID:70630-20190605@ugboroughparishcouncil.gov.uk
DTSTAMP:20260423T084220Z
DTSTART;VALUE=DATE:20190605
DTEND;VALUE=DATE:20190606
SUMMARY:Council Meeting &#8211\\; 5th June 2019
DESCRIPTION:Full Council Meeting\nView details: https://ugboroughparishcouncil.gov.uk/meetings/council-meeting-5th-june-2019/
URL:https://ugboroughparishcouncil.gov.uk/meetings/council-meeting-5th-june-2019/
END:VEVENT
END:VCALENDAR
